BEGIN:VCALENDAR
VERSION:2.0
PRODID:-//Squarespace Inc/Squarespace 6//v6//EN
BEGIN:VEVENT
UID:530c4c42e4b00bc932a2eba6@squarespace.com
DTSTAMP:20140310T034452Z
DTSTART:20140228T050000Z
DTEND:20140228T070000Z
SUMMARY:Free Spouse Career Guidance Seminar
GEO:0.0;0.0
LOCATION:Aussie Orientation Services Office
END:VEVENT
END:VCALENDAR
