BEGIN:VCALENDAR
VERSION:2.0
PRODID:-//Squarespace Inc/Squarespace 6//v6//EN
BEGIN:VEVENT
UID:52d38762e4b0d1fda0b2ccf4@squarespace.com
DTSTAMP:20140225T083349Z
DTSTART:20140211T020000Z
DTEND:20140211T033000Z
SUMMARY:School Transition Workshop
END:VEVENT
END:VCALENDAR
