BEGIN:VCALENDAR
VERSION:2.0
PRODID:-//Squarespace Inc/Squarespace 6//v6//EN
BEGIN:VEVENT
UID:52ef29c6e4b0b4548244ee89@squarespace.com
DTSTAMP:20140310T033601Z
DTSTART:20140211T100300Z
DTEND:20140211T130000Z
SUMMARY:Exclusive night with POLA cosmetics
GEO:-31.960584;115.869985
LOCATION:Westralian Apartments\, 78 Terrace Rd\, East Perth\, Aus
END:VEVENT
END:VCALENDAR
