BEGIN:VCALENDAR
VERSION:2.0
PRODID:-//Squarespace Inc/Squarespace 6//v6//EN
BEGIN:VEVENT
UID:52affbeee4b0aee386d45129@squarespace.com
DTSTAMP:20140924T025037Z
DTSTART:20140110T110000Z
DTEND:20140110T130000Z
SUMMARY:Perth Heat 10-01-14
GEO:-32.057593;115.9351
LOCATION:LOT 1 Nicholson Rd\, Thornlie\, WA\, 6108\, Australia
END:VEVENT
END:VCALENDAR
