BEGIN:VCALENDAR
VERSION:2.0
PRODID:-//Squarespace Inc/Squarespace 6//v6//EN
BEGIN:VEVENT
UID:529c158ce4b03b0c04b76152@squarespace.com
DTSTAMP:20131217T073004Z
DTSTART:20131215T060000Z
DTEND:20131215T090000Z
SUMMARY:Christmas Party
GEO:-32.027761;115.779086
LOCATION:Quarantine Park\, 1 Braunton St\, Bicton\, WA\, 6157\, Australia
END:VEVENT
END:VCALENDAR
