BEGIN:VCALENDAR
VERSION:2.0
PRODID:-//Squarespace Inc/Squarespace 6//v6//EN
BEGIN:VEVENT
UID:5282fa00e4b09330e975cdcc@squarespace.com
DTSTAMP:20131204T082703Z
DTSTART:20131128T093000Z
DTEND:20131128T110000Z
SUMMARY:Free Seminar - A Guide to Buying in WA & Australian Personal Financ
 e explained
GEO:-31.952143;115.839591
LOCATION:Level 3\, 28 Kings Park Rd\, West Perth\, WA\, 6000\, Australia
END:VEVENT
END:VCALENDAR
