BEGIN:VCALENDAR
VERSION:2.0
PRODID:-//Squarespace Inc/Squarespace 6//v6//EN
BEGIN:VEVENT
UID:5282fb30e4b06d07dd738a68@squarespace.com
DTSTAMP:20131217T072924Z
DTSTART:20131210T010000Z
DTEND:20131210T043000Z
SUMMARY:Employee Cultural Transition Training for International Arrivals
GEO:-31.955121;115.856591
LOCATION:Level 15\, 109 St Georges Tce\, East Perth WA\, 6004\, Australia
END:VEVENT
END:VCALENDAR
