BEGIN:VCALENDAR
VERSION:2.0
PRODID:-//Squarespace Inc/Squarespace 6//v6//EN
BEGIN:VEVENT
UID:526f5534e4b06297128e18ab@squarespace.com
DTSTAMP:20131204T082723Z
DTSTART:20131104T020000Z
DTEND:20131104T030000Z
SUMMARY:Mothers Group Meet Up
GEO:-31.981163;115.863821
LOCATION:The Boatshed Cafe\, Coode St\, South Perth\, Western Australia
END:VEVENT
END:VCALENDAR
