BEGIN:VCALENDAR
VERSION:2.0
PRODID:-//Squarespace Inc/Squarespace 6//v6//EN
BEGIN:VEVENT
UID:526f53b9e4b0a00da002a6a3@squarespace.com
DTSTAMP:20131204T082718Z
DTSTART:20131105T030000Z
DTEND:20131105T090000Z
SUMMARY:Melbourne Cup at The Brisbane Hotel
GEO:-31.943644;115.866365
LOCATION:The Brisbane Hotel\, 292 Beaufort St\, Perth\, Wa\, 6000\, Austral
 ia
END:VEVENT
END:VCALENDAR
