BEGIN:VCALENDAR
VERSION:2.0
PRODID:-//Squarespace Inc/Squarespace 6//v6//EN
BEGIN:VEVENT
UID:529ee595e4b0dfa4e4750e91@squarespace.com
DTSTAMP:20131204T082731Z
DTSTART:20131017T083000Z
DTEND:20131017T093000Z
SUMMARY:Maximising Expatriation for an ROI
GEO:-31.953853;115.850986
LOCATION:KPMG Building\, 235 St Georges Terrace\,\, perth wa\, Australia
END:VEVENT
END:VCALENDAR
